BEGIN:VCALENDAR
VERSION:2.0
PRODID:gruene-merzig.de
METHOD:PUBLISH
BEGIN:VTIMEZONE
TZID:Europe/Berlin
X-LIC-LOCATION:Europe/Berlin
BEGIN:DAYLIGHT
TZOFFSETFROM:+0100
TZOFFSETTO:+0200
TZNAME:CEST
DTSTART:19700329T020000
RRULE:FREQ=YEARLY;INTERVAL=1;BYDAY=-1SU;BYMONTH=3
END:DAYLIGHT
BEGIN:STANDARD
TZOFFSETFROM:+0200
TZOFFSETTO:+0100
TZNAME:CET
DTSTART:19701025T030000
RRULE:FREQ=YEARLY;INTERVAL=1;BYDAY=-1SU;BYMONTH=10
END:STANDARD
END:VTIMEZONE
BEGIN:VEVENT
UID:9f25635423b2798dcf874c2661ee2e51@gruene-merzig.de
URL;VALUE=URI:https://gruene-merzig.de/termine/stammtisch-3/
LOCATION:Klex Bistro, Trierer Straße 25, Merzig
SUMMARY:Stammtisch
DESCRIPTION;ALTREP="data:text/html,%0A%3Cp%3EUnser%20n%C3%A4chster%20offe
 ner%3C%2Fp%3E%0A%0A%0A%0A%3Cp%3E%3Cstrong%3ESTAMMTISCH%20ist%20am%2023.%2
 0April%2C%20um%2018%3A30%20Uhr%3C%2Fstrong%3E%3C%2Fp%3E%0A%0A%0A%0A%3Cp%3
 E%3Cstrong%3Eim%20Klex%20Bistro%2C%20Trierer%20Stra%C3%9Fe%2025%2C%20Merz
 ig.%3C%2Fstrong%3E%3C%2Fp%3E%0A%0A%0A%0A%3Cp%3EWir%20hoffen%20auf%20rege%
 20Beteiligung.%3C%2Fp%3E%0A%0A%0A%0A%3Cp%3E%3C%2Fp%3E%0A":Unser nächster
  offener\n\nSTAMMTISCH ist am 23. April\, um 18:30 Uhr\n\nim Klex Bistro\
 , Trierer Straße 25\, Merzig.\n\nWir hoffen auf rege Beteiligung.
CLASS:PUBLIC
DTSTART;TZID=Europe/Berlin:20260423T183000
DTEND;TZID=Europe/Berlin:20260423T193000
DTSTAMP:20260421T093641
END:VEVENT
END:VCALENDAR