BEGIN:VCALENDAR
VERSION:2.0
PRODID:gruene-merzig.de
METHOD:PUBLISH
BEGIN:VTIMEZONE
TZID:Europe/Berlin
X-LIC-LOCATION:Europe/Berlin
BEGIN:DAYLIGHT
TZOFFSETFROM:+0100
TZOFFSETTO:+0200
TZNAME:CEST
DTSTART:19700329T020000
RRULE:FREQ=YEARLY;INTERVAL=1;BYDAY=-1SU;BYMONTH=3
END:DAYLIGHT
BEGIN:STANDARD
TZOFFSETFROM:+0200
TZOFFSETTO:+0100
TZNAME:CET
DTSTART:19701025T030000
RRULE:FREQ=YEARLY;INTERVAL=1;BYDAY=-1SU;BYMONTH=10
END:STANDARD
END:VTIMEZONE
BEGIN:VEVENT
UID:f3c03cd19a4e93ab0c569dbb34a504ce@gruene-merzig.de
URL;VALUE=URI:https://gruene-merzig.de/termine/kreisweiter-stammtisch-4/
LOCATION:Fischerberghaus, Beckingen
SUMMARY:Kreisweiter Stammtisch
DESCRIPTION;ALTREP="data:text/html,%0A%3Cp%3ELiebe%20Freunde%2C%26nbsp%3B
 %3C%2Fp%3E%0A%0A%0A%0A%3Cp%3Ehiermit%20laden%20wir%20euch%20herzlich%20zu
 %20unserem%20n%C3%A4chsten%20kreisweiten%20Stammtisch%26nbsp%3Bam%26nbsp%
 3B%3Cstrong%3EMittwoch%2C%2029.%20April%202026%3C%2Fstrong%3E%26nbsp%3Bei
 n.%26nbsp%3B%3C%2Fp%3E%0A%0A%0A%0A%3Cp%3EWir%20starten%26nbsp%3Bum%26nbsp
 %3B%3Cstrong%3E17%3A30%20Uhr%26nbsp%3Bmit%20einer%20Wanderung%3C%2Fstrong
 %3Ezum%20Kalksteinbruch%2C%20vorbei%20an%20bl%C3%BChenden%20Orchideen%20u
 nd%20idyllischen%20Streuobstwiesen.%20Ein%20sch%C3%B6ner%20Ausklang%20des
 %20Tages%20in%20der%20Natur%21%26nbsp%3BGegen%26nbsp%3B%3Cstrong%3E18%3A3
 0%20Uhr%3C%2Fstrong%3Ekehren%20wir%20gemeinsam%20ins%20Fischerberghaus%20
 f%C3%BCr%20gute%26nbsp%3B%3Cstrong%3EGespr%C3%A4che%20und%20Austausch%3C%
 2Fstrong%3E%26nbsp%3Bein.%26nbsp%3B%3C%2Fp%3E%0A%0A%0A%0A%3Cp%3E17%3A30%2
 0Uhr%C2%A0%E2%80%93%20Wanderung%C2%A0%3C%2Fp%3E%0A%0A%0A%0A%3Cp%3E18%3A30
 %20Uhr%C2%A0%E2%80%93%20Geselliger%20Austausch%20im%20Fischerberghaus%C2%
 A0%3C%2Fp%3E%0A%0A%0A%0A%3Cp%3ETreffpunkt%3A%20Fischerberghaus%20Beckinge
 n%2C%20Zufahrt%20nur%20%C3%BCber%20Saarfels%3C%2Fp%3E%0A%0A%0A%0A%3Cp%3EF
 %C3%BCr%20die%20Wanderung%3A%20Treffen%20auf%20dem%20hinteren%20Parkplatz
 %C2%A0%3C%2Fp%3E%0A%0A%0A%0A%3Cp%3EThemen%20des%20Abends%3A%20Landtagswah
 lkampf%202027%20und%20B%C3%BCrgermeisterwahl%20in%20Beckingen%20im%20Herb
 st%202026%C2%A0%3C%2Fp%3E%0A%0A%0A%0A%3Cp%3E%3C%2Fp%3E%0A%0A%0A%0A%3Cp%3E
 Wir%20freuen%20uns%20auf%20euch%21%3C%2Fp%3E%0A%0A%0A%0A%3Cp%3E%3C%2Fp%3E
 %0A":Liebe Freunde\, \n\nhiermit laden wir euch herzlich zu unserem näc
 hsten kreisweiten Stammtisch am Mittwoch\, 29. April 2026 ein. \n\nWi
 r starten um 17:30 Uhr mit einer Wanderungzum Kalksteinbruch\, vorbei 
 an blühenden Orchideen und idyllischen Streuobstwiesen. Ein schöner Aus
 klang des Tages in der Natur! Gegen 18:30 Uhrkehren wir gemeinsam ins F
 ischerberghaus für gute Gespräche und Austausch ein. \n\n17:30 Uhr 
 – Wanderung \n\n18:30 Uhr – Geselliger Austausch im Fischerberghaus
  \n\nTreffpunkt: Fischerberghaus Beckingen\, Zufahrt nur über Saarfels\
 n\nFür die Wanderung: Treffen auf dem hinteren Parkplatz \n\nThemen des
  Abends: Landtagswahlkampf 2027 und Bürgermeisterwahl in Beckingen im He
 rbst 2026 \n\nWir freuen uns auf euch!
CLASS:PUBLIC
DTSTART;TZID=Europe/Berlin:20260429T173000
DTEND;TZID=Europe/Berlin:20260429T210000
DTSTAMP:20260421T115435
END:VEVENT
END:VCALENDAR